BEGIN:VCALENDAR
VERSION:2.0
PRODID:-//Nonprofit Organization in Canada | Park Clean Up Charity CANSEF - ECPv6.15.20//NONSGML v1.0//EN
CALSCALE:GREGORIAN
METHOD:PUBLISH
X-ORIGINAL-URL:https://cansef.org
X-WR-CALDESC:Events for Nonprofit Organization in Canada | Park Clean Up Charity CANSEF
REFRESH-INTERVAL;VALUE=DURATION:PT1H
X-Robots-Tag:noindex
X-PUBLISHED-TTL:PT1H
BEGIN:VTIMEZONE
TZID:UTC
BEGIN:STANDARD
TZOFFSETFROM:+0000
TZOFFSETTO:+0000
TZNAME:UTC
DTSTART:20220101T000000
END:STANDARD
END:VTIMEZONE
BEGIN:VEVENT
DTSTART;TZID=UTC:20230607T150000
DTEND;TZID=UTC:20230607T160000
DTSTAMP:20260422T134733
CREATED:20240809T081140Z
LAST-MODIFIED:20240809T081140Z
UID:252-1686150000-1686153600@cansef.org
SUMMARY:How to ace your interview
DESCRIPTION:Topics will be discussed: \n\nInterview preparation tips and guidance.\nHow to use the different Techniques to answer challenging interview questions and make a good impression on your potential employer.\n\nEvent Link: https://www.youtube.com/watch?v=GGecklaUZL0
URL:https://cansef.org/event/how-to-ace-your-interview/
LOCATION:ON
ATTACH;FMTTYPE=image/jpeg:https://cansef.org/wp-content/uploads/2024/08/CANSEF-7-June-2023.jpg
ORGANIZER;CN="Cansef":MAILTO:info@cansef.org
END:VEVENT
END:VCALENDAR